BEGIN:VCALENDAR
VERSION:2.0
PRODID:-//NLClassics.com - ECPv6.15.20//NONSGML v1.0//EN
CALSCALE:GREGORIAN
METHOD:PUBLISH
X-ORIGINAL-URL:https://nlclassics.com
X-WR-CALDESC:Events for NLClassics.com
REFRESH-INTERVAL;VALUE=DURATION:PT1H
X-Robots-Tag:noindex
X-PUBLISHED-TTL:PT1H
BEGIN:VTIMEZONE
TZID:America/St_Johns
BEGIN:DAYLIGHT
TZOFFSETFROM:-0330
TZOFFSETTO:-0230
TZNAME:NDT
DTSTART:20200308T053000
END:DAYLIGHT
BEGIN:STANDARD
TZOFFSETFROM:-0230
TZOFFSETTO:-0330
TZNAME:NST
DTSTART:20201101T043000
END:STANDARD
BEGIN:DAYLIGHT
TZOFFSETFROM:-0330
TZOFFSETTO:-0230
TZNAME:NDT
DTSTART:20210314T053000
END:DAYLIGHT
BEGIN:STANDARD
TZOFFSETFROM:-0230
TZOFFSETTO:-0330
TZNAME:NST
DTSTART:20211107T043000
END:STANDARD
BEGIN:DAYLIGHT
TZOFFSETFROM:-0330
TZOFFSETTO:-0230
TZNAME:NDT
DTSTART:20220313T053000
END:DAYLIGHT
BEGIN:STANDARD
TZOFFSETFROM:-0230
TZOFFSETTO:-0330
TZNAME:NST
DTSTART:20221106T043000
END:STANDARD
BEGIN:DAYLIGHT
TZOFFSETFROM:-0330
TZOFFSETTO:-0230
TZNAME:NDT
DTSTART:20230312T053000
END:DAYLIGHT
BEGIN:STANDARD
TZOFFSETFROM:-0230
TZOFFSETTO:-0330
TZNAME:NST
DTSTART:20231105T043000
END:STANDARD
BEGIN:DAYLIGHT
TZOFFSETFROM:-0330
TZOFFSETTO:-0230
TZNAME:NDT
DTSTART:20240310T053000
END:DAYLIGHT
BEGIN:STANDARD
TZOFFSETFROM:-0230
TZOFFSETTO:-0330
TZNAME:NST
DTSTART:20241103T043000
END:STANDARD
BEGIN:DAYLIGHT
TZOFFSETFROM:-0330
TZOFFSETTO:-0230
TZNAME:NDT
DTSTART:20250309T053000
END:DAYLIGHT
BEGIN:STANDARD
TZOFFSETFROM:-0230
TZOFFSETTO:-0330
TZNAME:NST
DTSTART:20251102T043000
END:STANDARD
BEGIN:DAYLIGHT
TZOFFSETFROM:-0330
TZOFFSETTO:-0230
TZNAME:NDT
DTSTART:20260308T053000
END:DAYLIGHT
BEGIN:STANDARD
TZOFFSETFROM:-0230
TZOFFSETTO:-0330
TZNAME:NST
DTSTART:20261101T043000
END:STANDARD
END:VTIMEZONE
BEGIN:VEVENT
DTSTART;VALUE=DATE:20250808
DTEND;VALUE=DATE:20250811
DTSTAMP:20260421T093559
CREATED:20250302T135348Z
LAST-MODIFIED:20250302T135348Z
UID:720-1754611200-1754870399@nlclassics.com
SUMMARY:Central Car Meet 2025
DESCRIPTION:
URL:https://nlclassics.com/event/central-car-meet-2025/
CATEGORIES:Car Show,Cruise,Social
END:VEVENT
BEGIN:VEVENT
DTSTART;TZID=America/St_Johns:20250312T183000
DTEND;TZID=America/St_Johns:20250312T210000
DTSTAMP:20260421T093559
CREATED:20250302T135028Z
LAST-MODIFIED:20250302T135028Z
UID:714-1741804200-1741813200@nlclassics.com
SUMMARY:NACCC - March Meeting
DESCRIPTION:Members only monthly club meeting
URL:https://nlclassics.com/event/naccc-march-meeting/
CATEGORIES:Meeting,Social
END:VEVENT
BEGIN:VEVENT
DTSTART;VALUE=DATE:20241221
DTEND;VALUE=DATE:20241222
DTSTAMP:20260421T093559
CREATED:20240402T125239Z
LAST-MODIFIED:20240402T125239Z
UID:634-1734739200-1734825599@nlclassics.com
SUMMARY:NACCC - Christmas Dinner & Dance
DESCRIPTION:
URL:https://nlclassics.com/event/naccc-christmas-dinner-dance/
LOCATION:The Capital Hotel\, 208 Kenmount Rd\, St. John's\, NL\, A1B 3P2\, Canada
CATEGORIES:Social
END:VEVENT
BEGIN:VEVENT
DTSTART;VALUE=DATE:20240809
DTEND;VALUE=DATE:20240812
DTSTAMP:20260421T093559
CREATED:20240329T174829Z
LAST-MODIFIED:20240329T174904Z
UID:589-1723161600-1723420799@nlclassics.com
SUMMARY:Central Car Meet 2024
DESCRIPTION:Aug 9th – Registration and Social \nAug 10th – Car Show in support of Shriners\, BBQ\, and Dance \nAug 11th – Parade through Gander \n  \n  \n 
URL:https://nlclassics.com/event/central-car-meet-2024/
LOCATION:Steele Community Centre\, 155 Airport Blvd\, Gander\, Newfoundland\, A1V 1K6\, Canada
CATEGORIES:Car Show,Cruise,Social
END:VEVENT
BEGIN:VEVENT
DTSTART;TZID=America/St_Johns:20231216T180000
DTEND;TZID=America/St_Johns:20231216T235900
DTSTAMP:20260421T093559
CREATED:20231024T101403Z
LAST-MODIFIED:20231026T101138Z
UID:569-1702749600-1702771140@nlclassics.com
SUMMARY:NACCC Christmas Dinner and Dance
DESCRIPTION:Hi Everyone\nHere are the details for this year’s Christmas Dinner and Dance. Tickets are now available. You can reply to this email and send in etransfer to the same address (info@nlclassics.com) to pay for them. We will also have them at the next meeting in November.\n\nTickets\n$60 per person\n\nDate\nDec 16th 2023\n\nTime\nCocktails at 6:00 pm\, Dinner at 7:00 pm\, Music at 9:00\n\nLocation\nCapital Hotel\n\nBar\nCash Bar\n\nMeal\nRoast Turkey Dinner\, Salad\, Desert\, Tea / Coffee\nIf there are any dietary restrictions please let us know\n\nRooms\nBlock of 10 rooms reserved\, call in an book if interested\n\nThanks\nNACCC Executive
URL:https://nlclassics.com/event/naccc-christmas-dinner-and-dance/
LOCATION:The Capital Hotel\, 208 Kenmount Rd\, St. John's\, NL\, A1B 3P2\, Canada
CATEGORIES:Social
END:VEVENT
BEGIN:VEVENT
DTSTART;TZID=America/St_Johns:20231213T183000
DTEND;TZID=America/St_Johns:20231213T210000
DTSTAMP:20260421T093559
CREATED:20231024T101127Z
LAST-MODIFIED:20231024T101127Z
UID:567-1702492200-1702501200@nlclassics.com
SUMMARY:NACCC Monthly Meeting
DESCRIPTION:Meet for social / meal at 6:30 PM Meeting starts around 8 pm
URL:https://nlclassics.com/event/naccc-monthly-meeting-8/
LOCATION:The Guv’nor\, 389 Elizabeth Avenue\, St. John's\, Newfoundland\, Canada
CATEGORIES:Meeting,Social
END:VEVENT
BEGIN:VEVENT
DTSTART;TZID=America/St_Johns:20231108T183000
DTEND;TZID=America/St_Johns:20231108T210000
DTSTAMP:20260421T093559
CREATED:20231024T101042Z
LAST-MODIFIED:20231024T101042Z
UID:565-1699468200-1699477200@nlclassics.com
SUMMARY:NACCC Monthly Meeting
DESCRIPTION:Meet for social / meal at 6:30 PM Meeting starts around 8 pm
URL:https://nlclassics.com/event/naccc-monthly-meeting-7/
LOCATION:The Guv’nor\, 389 Elizabeth Avenue\, St. John's\, Newfoundland\, Canada
CATEGORIES:Meeting,Social
END:VEVENT
BEGIN:VEVENT
DTSTART;TZID=America/St_Johns:20230917T130000
DTEND;TZID=America/St_Johns:20230917T190000
DTSTAMP:20260421T093559
CREATED:20230822T144811Z
LAST-MODIFIED:20230822T144811Z
UID:559-1694955600-1694977200@nlclassics.com
SUMMARY:Salmonier Line Cruise and BBQ
DESCRIPTION:Cruise to Carl and Doreen’s Cabin for a BBQ \n600 Salmonier Line\nSeptember 17th \, Rain date for 24th\n\nLeave around 1  cruise out Conception Bay Highway to Salmonier Line
URL:https://nlclassics.com/event/salmonier-line-cruise-and-bbq/
CATEGORIES:Cruise,Social
END:VEVENT
BEGIN:VEVENT
DTSTART;TZID=America/St_Johns:20230827T130000
DTEND;TZID=America/St_Johns:20230827T190000
DTSTAMP:20260421T093559
CREATED:20230822T140017Z
LAST-MODIFIED:20230822T140017Z
UID:553-1693141200-1693162800@nlclassics.com
SUMMARY:Cupids Cruise and BBQ
DESCRIPTION:Our Annual cruise to Cupid’s and BBQ has been scheduled Sunday August 27th \n\n\n\n\nBring whatever you want to BBQ any side dishes\, utensils etc. Coals and BBQ will be supplied.\n\n\nWe will meet at Sobeys Long Pond as we have done before and leave at 1pm sharp. We will cruise out the old way ending up at the Orange Lodge inCupidsfor the BBQ
URL:https://nlclassics.com/event/cupids-cruise-and-bbq/
CATEGORIES:Cruise,Social
END:VEVENT
BEGIN:VEVENT
DTSTART;TZID=America/St_Johns:20221119T183000
DTEND;TZID=America/St_Johns:20221119T233000
DTSTAMP:20260421T093559
CREATED:20220818T122154Z
LAST-MODIFIED:20220818T171959Z
UID:434-1668882600-1668900600@nlclassics.com
SUMMARY:NACCC Christmas Dinner
DESCRIPTION:More details to come as planning continues
URL:https://nlclassics.com/event/naccc-christmas-dinner/
LOCATION:Mazol Shriners\, Topsail Road
CATEGORIES:Social
END:VEVENT
BEGIN:VEVENT
DTSTART;TZID=America/St_Johns:20220828T130000
DTEND;TZID=America/St_Johns:20220828T180000
DTSTAMP:20260421T093559
CREATED:20220818T122524Z
LAST-MODIFIED:20220818T122524Z
UID:437-1661691600-1661709600@nlclassics.com
SUMMARY:Cruise to Cupids and BBQ
DESCRIPTION:Club Members \n\n\nOur Annual cruise to Cupid’s and BBQ has been scheduled Sunday August 28th at 2pm\n\nBring whatever you want to BBQ any side dishes\, utensils etc. Coals and BBQ will be supplied.\n\nWe will meet at Sobeys Long Pond as we have done before and leave at 1pm sharp. We will cruise out the old way ending up at the Orange Lodge in Cupids for the BBQ\n\nNACCC Exec
URL:https://nlclassics.com/event/cruise-to-cupids-and-bbq/
LOCATION:Orange Lodge\, Cupids
CATEGORIES:Social
END:VEVENT
BEGIN:VEVENT
DTSTART;TZID=America/St_Johns:20211204T180000
DTEND;TZID=America/St_Johns:20211205T010000
DTSTAMP:20260421T093559
CREATED:20211109T005539Z
LAST-MODIFIED:20211130T144656Z
UID:47-1638640800-1638666000@nlclassics.com
SUMMARY:Christmas Dinner and Dance
DESCRIPTION:Date and Time : Dec 4th Cocktails at 6:00 pm\, Dinner at 7:00 pm\, Music at 9:00 pm\nLocation : Shriner’s Club Topsail Road\nCost : $45 per person\nMeal : Stuffed Chicken Breast or Vegan option\nCash Bar\n\nTickets can be purchased by e-transferring the money to info@nlclassics.com and there will be tickets available at the November meeting
URL:https://nlclassics.com/event/christmas-dinner-and-dance/
LOCATION:RE/MAX Centre\, 135 Mayor Ave\, St. John's\,\, Newfoundland\, A1C3G3\, Canada
CATEGORIES:Social
END:VEVENT
END:VCALENDAR